Workbook

Sheet Belegliste
A1: Belegliste
A2: Projektträger | C2: =Finanzkalkulation!C2 -> Organisation
A3: Projektname | C3: =Finanzkalkulation!C3 -> N-Challenges 2
A5: Anleitung zur Belegliste
A7: In der Belegliste müssen alle Belege des Projektes erfasst werden.
A8: Es muss nur die Belegliste ausgefüllt werden. Der Verwendungsnachweis wird automatisch aus dieser erstellt (Tabellenblatt "Verwendungsnachweis").
A9: Der Aufbau der Belegliste entspricht dem der Finanzkalkulation.
A11: Die Belege müssen nach Kostenarten (Personal- und Sachkosten) aufgeteilt in die Tabelle eingetragen werden. Die Mittelherkunft (Förder-, Eigen- oder Drittmittel) ist zu benennen. Ein Beleg kann vollständig durch eine Mittelherkunft gedeckt oder auf mehrere verteilt werden. Der Betrag in der Spalte "Betrag" rechts in der Tabelle muss dem Betrag auf dem Beleg und der Summe aus Förder-, Eigen- und Drittmittel entsprechen. Die Form der Nummerierung der Belege kann frei gewählt werden.
A12: Die Tabelle "Sonstige Einnahmen aus dem Projekt" muss nur ausgefüllt werden, wenn es sonstige Einnahmen im Projekt gab (z.B. Einnahmen beim Verkauf von Essen oder Getränken). Werden in Verbindung mit diesen Einnahmen entstehende Kosten als Kosten im Projekt angegeben ist hier der Umsatz und nicht der Gewinn einzutragen.
A14: Beispiel:
A15: Beleg-Nr. | B15: Datum | C15: Bezeichung der Ausgaben und ggf. Zusatzinformationen | D15: Art der Kosten | E15: Fördermittel | F15: Eigenmittel | G15: Drittmittel | H15: Betrag
A16: S1 | B16: 45658 | C16: Beispiel | D16: Material | E16: 100 | F16: 50 | H16: =SUM(E16:G16) -> 150
A18: Hinweise Personalkosten: Es wird ein Nachweis benötigt, welcher zeigt, dass die Person im Projekt beschäftigt war (Beschäftigungsnachweis wie z.B. Arbeitsvertrag, Arbeitszeitnachweis, Zusatzvereinbarung). Honorare sind keine Personalkosten, sondern Sachkosten.
A19: Hinweis Sachkosten: Bei den Sachkosten ist die Art der Kosten im Dropdown auszuwählen. Die Kategorien sind entsprechend der Finanzkalkulation zu vergeben.
A21: Wird eine Zeile nicht vollständig ausgefüllt, wird der Gesamtbetrag des Belegs rot markiert.
A23: Dieses Formular muss bis zum 31.10.2026 als unterschriebene PDF-Datei und als Excel-Datei (ohne Unterschrift) gemeinsam mit dem Sachbericht und dem Beschäftigungsnachweis per E-Mail an n-challenges@ljrbw.de eingereicht werden. Belege müssen nicht abgegeben werden, können aber bei Bedarf vom LJR nachgefordert werden. (Grundsätzlich werden bei ca. 10% der geförderten Verbünde stichprobenhaft die Belege geprüft.)
A26: Personalkosten
A27: Beleg-Nr. | B27: Datum | C27: Funktion und Aufgabe im Projekt | E27: Fördermittel | F27: Eigenmittel | G27: Drittmittel | H27: Betrag
H28: =SUM(E28:G28) -> 0
H29: =SUM(E29:G29) -> 0
H30: =SUM(E30:G30) -> 0
H31: =SUM(E31:G31) -> 0
H32: =SUM(E32:G32) -> 0
H33: =SUM(E33:G33) -> 0
H34: =SUM(E34:G34) -> 0
H35: =SUM(E35:G35) -> 0
H36: =SUM(E36:G36) -> 0
H37: =SUM(E37:G37) -> 0
H38: =SUM(E38:G38) -> 0
H39: =SUM(E39:G39) -> 0
... H52: =SUM(E52:G52) -> 0
A53: Summe Personalkosten | E53: =SUM(E28:E52) -> 0 | F53: =SUM(F28:F52) -> 0 | G53: =SUM(G28:G52) -> 0 | H53: =SUM(E53:G53) -> 0
A56: Sachkosten
A57: Beleg-Nr. | B57: Datum | C57: Bezeichung der Ausgaben und ggf. Zusatzinformationen | D57: Art der Kosten | E57: Fördermittel | F57: Eigenmittel | G57: Drittmittel | H57: Betrag
H58: =SUM(E58:G58) -> 0
H59: =SUM(E59:G59) -> 0
H60: =SUM(E60:G60) -> 0
H61: =SUM(E61:G61) -> 0
H62: =SUM(E62:G62) -> 0
H63: =SUM(E63:G63) -> 0
...

Sheet Verwendungsnachweis
A1: Rechnerischer Verwendungsnachweis
A2: Projektträger | B2: =Finanzkalkulation!C2 -> Organisation
A3: Projektname | B3: =Finanzkalkulation!C3 -> N-Challenges 2
A5: Dieses Tabellenblatt kann nicht bearbeitet werden. Die Daten werden automatisch aus der Finanzkalkulation und der Belegliste übernommen. Der rechnerische Verwendungsnachweis dient dem Überblick über die Finanzen des Projekts.
A7: Kostenart | B7: Geplante Kosten aus Finanzkalkulation | C7: Tatsächliche Kosten | G7: Abweichung Kosten
C8: Fördermittel | D8: Eigenmittel | E8: Drittmittel | F8: Gesamt
A9: Personalkosten | B9: =Finanzkalkulation!H25 -> 10400 | C9: =Belegliste!E53 -> 0 | D9: =Belegliste!F53 -> 0 | E9: =Belegliste!G53 -> 0 | F9: =Belegliste!H53 -> 0 | G9: =F9-B9 -> -10400
A10: Sachkosten
A11: Kosten für Raummiete | B11: =Finanzkalkulation!H35 -> 0 | C11: =Belegliste!E158 -> 0 | D11: =Belegliste!F158 -> 0 | E11: =Belegliste!G158 -> 0 | F11: =Belegliste!H158 -> 0 | G11: =F11-B11 -> 0
A12: Kosten für Material | B12: =Finanzkalkulation!H42 -> 0 | C12: =Belegliste!E159 -> 0 | D12: =Belegliste!F159 -> 0 | E12: =Belegliste!G159 -> 0 | F12: =Belegliste!H159 -> 0 | G12: =F12-B12 -> 0
A13: Laufende Kosten | B13: =Finanzkalkulation!H49 -> 0 | C13: =Belegliste!E160 -> 0 | D13: =Belegliste!F160 -> 0 | E13: =Belegliste!G160 -> 0 | F13: =Belegliste!H160 -> 0 | G13: =F13-B13 -> 0
A14: Personenbezogene Aufwandsentschädigung | B14: =Finanzkalkulation!H56 -> 0 | C14: =Belegliste!E161 -> 0 | D14: =Belegliste!F161 -> 0 | E14: =Belegliste!G161 -> 0 | F14: =Belegliste!H161 -> 0 | G14: =F14-B14 -> 0
A15: Kosten für Qualifizierungen | B15: =Finanzkalkulation!H63 -> 0 | C15: =Belegliste!E162 -> 0 | D15: =Belegliste!F162 -> 0 | E15: =Belegliste!G162 -> 0 | F15: =Belegliste!H162 -> 0 | G15: =F15-B15 -> 0
A16: Kosten Öffentlichkeitsarbeit | B16: =Finanzkalkulation!H70 -> 0 | C16: =Belegliste!E163 -> 0 | D16: =Belegliste!F163 -> 0 | E16: =Belegliste!G163 -> 0 | F16: =Belegliste!H163 -> 0 | G16: =F16-B16 -> 0
A17: Kosten Sonstiges | B17: =Finanzkalkulation!H77 -> 0 | C17: =Belegliste!E164 -> 0 | D17: =Belegliste!F164 -> 0 | E17: =Belegliste!G164 -> 0 | F17: =Belegliste!H164 -> 0 | G17: =F17-B17 -> 0
A18: Summe Sachkosten | B18: =SUM(B11:B17) -> 0 | C18: =Belegliste!E165 -> 0 | D18: =Belegliste!F165 -> 0 | E18: =Belegliste!G165 -> 0 | F18: =Belegliste!H165 -> 0 | G18: =F18-B18 -> 0
A19: Gesamtausgaben des Projektes | B19: =B9+B18 -> 10400 | C19: =C9+C18 -> 0 | D19: =D9+D18 -> 0 | E19: =E9+E18 -> 0 | F19: =F9+F18 -> 0 | G19: =F19-B19 -> -10400
A22: Überblick Projektfinanzierung
A24: Gesamtausgaben des Projektes
A25: Personalkosten | B25: =F9 -> 0 | C25: =IFERROR(B25/$B$27,0) -> 0
A26: Sachkosten | B26: =F18 -> 0 | C26: =IFERROR(B26/$B$27,0) -> 0
A27: Gesamtkosten | B27: =SUM(B25:B26) -> 0
A30: Gesamteinnahmen des Projektes
A31: Abgerufene Fördermittel "N-Challenges" | B31: =Belegliste!H170 -> 0 | C31: =IFERROR(B31/$B$27,0) -> 0
A32: Eigenmittel | B32: =D19 -> 0 | C32: =IFERROR(B32/$B$27,0) -> 0
A33: Drittmittel | B33: =E19 -> 0 | C33: =IFERROR(B33/$B$27,0) -> 0
A34: Sonstige Einnahmen aus dem Projekt | B34: =Belegliste!H188 -> 0 | C34: =IFERROR(B34/$B$27,0) -> 0
A35: Gesamteinnahmen | B35: =SUM(B31:B34) -> 0
A38: Bilanz
A39: Gesamtausgaben | B39: =B27 -> 0
A40: Gesamteinnahmen | B40: =B35 -> 0
A41: Differenz | B41: =B40-B39 -> 0

Sheet Finanzkalkulation
A1: Finanzkalkulation
A2: Projektträger | C2: Organisation
A3: Projektname | C3: N-Challenges 2
A5: Hinweise zum Finanzkalkulation
A6: • Es können 90% der Kosten gefördert werden. 10% der Gesamtkosten müssen immer vom Projektträger getragen werden. • Es können max. 20.000€ Fördermittel und maximal 25.000€ Gesamtkosten beantragt werden.
A7: • Drittmittel müssen in der Finanzkalkulation dargestellt sein. Durch den Einsatz von Drittmitteln darf es zu keiner Überfinanzierung des Projekts kommen. Drittmittel, die eigens für das beantragte Projekt eingeholt werden, können nicht als Eigenmittel eingesetzt werden.
A8: • Alle Mittel müssen sparsam und wirtschaftlich kalkuliert sein. Alle Beträge verstehen sich inkl. der zu zahlenden Steuern.
A9: • Nicht förderbar sind: - Personalkosten für Personen, die nicht unmittelbar im Projekt tätig sind - Anschaffungen, die nicht unmittelbar der Durchführung des Projekts dienen
A10: • Auch wenn Referent*innen personenbezogene Mittel sind, gelten diese als Sachkosten und nicht als Personalkosten. In der Kalkulation bei Referent*innen bitte angeben, wie viele Stunden der*die Referent*in für das entsprechende Honorar für welche Tätigkeiten im Projekt dabei sein soll. • Personalkosten sind unmittelbar für das Projekt angestellte Personen. Dies muss nachweisbar sein (z. B. über die Erhöhung von Stellenprozenten oder einen Arbeitsvertrag).
A11: • Es gilt das Besserstellungsverbot. Personal darf entsprechend nicht besser bezahlt werden als vergleichbare Beschäftigte des Landes Baden-Württemberg.
A12: • Sollten die vorgegeben Kategorien im Formular nicht auf das Projekt passen, können diese auch händisch überschrieben werden. Ebenso können dem Formular beliebig mehr benötigte Zeilen hinzufügen werden, die Formel muss dann hineinkopiert werden. Nicht benötigte Zeilen können gelöscht werden.
A14: Personalkosten | C14: Bitte hier folgende Daten für jede geplant beschäftigte Person für das Projekt eintragen: Funktion und Aufgabe im Projekt, Anzahl der aus beantragten Mitteln zu finanzierdenen geplanten Stunden pro Woche für das Projekt, Stundensatz im Projekt oder eindeutige Bezeichnung des Tarifs. Für Eigen- und Drittmittel reichen allgemeinere Angaben.
B15: oben: Funktion und Aufgabe im Projekt unten: Tarifbezeichnung oder Arbeitgeberbrutto | D15: oben: Zeitraum beantr. Mittel unten: Std pro Zeit f. beantr. M. | E15: Beantragte Fördermittel | F15: Eigenmittel | G15: Drittmittel | H15: Summe
A17: P1 | B17: z. B. Projektreferentin, Projektkoordination | D17: z. B. 1/18−8/19 | E17: =10400 -> 10400 | H17: =SUM(E17:G18) -> 10400
B18: z.B. "TV-L E 10, St. 2" oder "6.566 €/J" | D18: z. B. 5 h/W
A19: P2 | H19: =SUM(E19:G20) -> 0
A21: P3 | B21: Bitte oben stehende Beispiele löschen. | H21: =SUM(E21:G22) -> 0
A23: P4 | H23: =SUM(E23:G24) -> 0
A25: Summe Personalkosten | E25: =SUM(E17:E24) -> 10400 | F25: =SUM(F17:F24) -> 0 | G25: =SUM(G17:G24) -> 0 | H25: =SUM(E25:G25) -> 10400
A27: Sachkosten
A28: Bezeichung der Ausgaben und ggf. Zusatzinformationen | E28: Beantragte Fördermittel | F28: Eigenmittel | G28: Drittmittel | H28: Summe
A29: Raummieten (für Veranstaltungen im Rahmen des Projektes)
H30: =SUM(E30:G30) -> 0
H31: =SUM(E31:G31) -> 0
H32: =SUM(E32:G32) -> 0
H33: =SUM(E33:G33) -> 0
H34: =SUM(E34:G34) -> 0
A35: Summe Raummieten | E35: =SUM(E30:E34) -> 0 | F35: =SUM(F30:F34) -> 0 | G35: =SUM(G30:G34) -> 0 | H35: =SUM(E35:G35) -> 0
A36: Material
H37: =SUM(E37:G37) -> 0
H38: =SUM(E38:G38) -> 0
H39: =SUM(E39:G39) -> 0
H40: =SUM(E40:G40) -> 0
H41: =SUM(E41:G41) -> 0
A42: Summe Material | E42: =SUM(E37:E41) -> 0 | F42: =SUM(F37:F41) -> 0 | G42: =SUM(G37:G41) -> 0 | H42: =SUM(E42:G42) -> 0
A43: Laufende Kosten (z.B. Telefonkosten, Büromaterial etc.)
H44: =SUM(E44:G44) -> 0
H45: =SUM(E45:G45) -> 0
H46: =SUM(E46:G46) -> 0
H47: =SUM(E47:G47) -> 0
...

Sheet Dropdown
A3: Sachkosten
A4: Raummiete
A5: Material
A6: Laufende Kosten
A7: Personenbezogene Aufwandsentschädigung
A8: Qualifizierungen
A9: Öffentlichkeitsarbeit
A10: Sonstiges
